BEGIN:VCALENDAR
VERSION:2.0
PRODID:-//time.now/holidays//NONSGML v1.0//EN
BEGIN:VEVENT
UID:0e9499ba-b56e-490c-8a41-774eb2a79b39
DTSTAMP:20260420T004851Z
DTSTART;VALUE=DATE:20260624
SUMMARY:Midsummer Day (Estonia)
END:VEVENT
END:VCALENDAR