BEGIN:VCALENDAR
VERSION:2.0
PRODID:-//time.now/holidays//NONSGML v1.0//EN
BEGIN:VEVENT
UID:593c8538-0d1a-4984-9f4e-50711164c5d1
DTSTAMP:20260422T193052Z
DTSTART;VALUE=DATE:20260605
SUMMARY:President's Day (Guinea Ecuatorial)
END:VEVENT
END:VCALENDAR