BEGIN:VCALENDAR
VERSION:2.0
PRODID:-//time.now/holidays//NONSGML v1.0//EN
BEGIN:VEVENT
UID:df31158e-d3d7-44e4-bd57-e5bc062b0803
DTSTAMP:20260420T060105Z
DTSTART;VALUE=DATE:20260403
SUMMARY:Good Friday (Guinea Ecuatorial)
END:VEVENT
END:VCALENDAR