BEGIN:VCALENDAR
VERSION:2.0
PRODID:-//time.now/holidays//NONSGML v1.0//EN
BEGIN:VEVENT
UID:1ed96af6-f122-44c9-9e65-83e06e2cc5c5
DTSTAMP:20260420T040945Z
DTSTART;VALUE=DATE:20260817
SUMMARY:Constitution Day (observed) (Guinea Ecuatorial)
END:VEVENT
END:VCALENDAR