BEGIN:VCALENDAR
VERSION:2.0
PRODID:-//time.now/holidays//NONSGML v1.0//EN
BEGIN:VEVENT
UID:d6a24793-4638-42f8-b8a6-f528d562aecd
DTSTAMP:20260422T085900Z
DTSTART;VALUE=DATE:20260404
SUMMARY:Holy Saturday (El Salvador)
END:VEVENT
END:VCALENDAR