BEGIN:VCALENDAR
VERSION:2.0
PRODID:-//time.now/holidays//NONSGML v1.0//EN
BEGIN:VEVENT
UID:9132ea2c-8c69-4bcd-a611-f706c9239cdf
DTSTAMP:20260422T154858Z
DTSTART;VALUE=DATE:20260425
SUMMARY:Sinai Liberation Day (Egipto)
END:VEVENT
END:VCALENDAR