BEGIN:VCALENDAR
VERSION:2.0
PRODID:-//time.now/holidays//NONSGML v1.0//EN
BEGIN:VEVENT
UID:70071791-bb76-48bf-ad17-0eafc7422f8b
DTSTAMP:20260420T081551Z
DTSTART;VALUE=DATE:20260501
SUMMARY:Labor Day (Egipto)
END:VEVENT
END:VCALENDAR