BEGIN:VCALENDAR
VERSION:2.0
PRODID:-//time.now/holidays//NONSGML v1.0//EN
BEGIN:VEVENT
UID:486b4697-719a-4866-b7b9-2949357a39da
DTSTAMP:20260423T030310Z
DTSTART;VALUE=DATE:20260125
SUMMARY:January 25th Revolution Day (Egipto)
END:VEVENT
END:VCALENDAR