BEGIN:VCALENDAR
VERSION:2.0
PRODID:-//time.now/holidays//NONSGML v1.0//EN
BEGIN:VEVENT
UID:28c3946d-8fd2-4efd-ab53-912a8ab1668c
DTSTAMP:20260420T190432Z
DTSTART;VALUE=DATE:20260616
SUMMARY:Islamic New Year (estimated) (Egipto)
END:VEVENT
END:VCALENDAR