BEGIN:VCALENDAR
VERSION:2.0
PRODID:-//time.now/holidays//NONSGML v1.0//EN
BEGIN:VEVENT
UID:aad9ae59-1016-4ea9-b06a-28f514519812
DTSTAMP:20260420T045832Z
DTSTART;VALUE=DATE:20261006
SUMMARY:Armed Forces Day (Egipto)
END:VEVENT
END:VCALENDAR