BEGIN:VCALENDAR
VERSION:2.0
PRODID:-//time.now/holidays//NONSGML v1.0//EN
BEGIN:VEVENT
UID:ca805cc3-8e89-4f4a-8cee-a7e83cb2eee7
DTSTAMP:20260420T165047Z
DTSTART;VALUE=DATE:20260526
SUMMARY:Arafat Day (estimated) (Egipto)
END:VEVENT
END:VCALENDAR