BEGIN:VCALENDAR
VERSION:2.0
PRODID:-//time.now/holidays//NONSGML v1.0//EN
BEGIN:VEVENT
UID:6cc713ff-e29b-4227-a673-7766760cb410
DTSTAMP:20260422T075225Z
DTSTART;VALUE=DATE:20260524
SUMMARY:The Battle of Pichincha (Ecuador)
END:VEVENT
END:VCALENDAR