BEGIN:VCALENDAR
VERSION:2.0
PRODID:-//time.now/holidays//NONSGML v1.0//EN
BEGIN:VEVENT
UID:26c35717-f2b1-4443-b090-ec71b031ee12
DTSTAMP:20260422T092200Z
DTSTART;VALUE=DATE:20260810
SUMMARY:Declaration of Independence of Quito (Ecuador)
END:VEVENT
END:VCALENDAR