BEGIN:VCALENDAR
VERSION:2.0
PRODID:-//time.now/holidays//NONSGML v1.0//EN
BEGIN:VEVENT
UID:0f7ac45e-fb9d-4c10-84b9-69088c713da9
DTSTAMP:20260420T095722Z
DTSTART;VALUE=DATE:20261225
SUMMARY:Christmas Day (Ecuador)
END:VEVENT
END:VCALENDAR