BEGIN:VCALENDAR
VERSION:2.0
PRODID:-//time.now/holidays//NONSGML v1.0//EN
BEGIN:VEVENT
UID:3e708b39-8a30-4b17-81e4-0dceebe8e744
DTSTAMP:20260420T173843Z
DTSTART;VALUE=DATE:20271101
SUMMARY:All Souls' Day (observed) (Ecuador)
END:VEVENT
END:VCALENDAR