BEGIN:VCALENDAR
VERSION:2.0
PRODID:-//time.now/holidays//NONSGML v1.0//EN
BEGIN:VEVENT
UID:4f72d63a-2e31-4e8b-8c64-02ebf0a8f41e
DTSTAMP:20260420T215632Z
DTSTART;VALUE=DATE:20260816
SUMMARY:Restoration Day (República Dominicana)
END:VEVENT
END:VCALENDAR