BEGIN:VCALENDAR
VERSION:2.0
PRODID:-//time.now/holidays//NONSGML v1.0//EN
BEGIN:VEVENT
UID:b191854d-1a4f-49ed-9ec0-3e257df6da70
DTSTAMP:20260420T231012Z
DTSTART;VALUE=DATE:20260126
SUMMARY:Juan Pablo Duarte Day (República Dominicana)
END:VEVENT
END:VCALENDAR