BEGIN:VCALENDAR
VERSION:2.0
PRODID:-//time.now/holidays//NONSGML v1.0//EN
BEGIN:VEVENT
UID:a1cd896d-c424-426c-a5b7-dbf992a1f51f
DTSTAMP:20260422T084018Z
DTSTART;VALUE=DATE:20261225
SUMMARY:Christmas Day (República Dominicana)
END:VEVENT
END:VCALENDAR