BEGIN:VCALENDAR
VERSION:2.0
PRODID:-//time.now/holidays//NONSGML v1.0//EN
BEGIN:VEVENT
UID:fa35cbc8-4608-47d5-9526-8461adceb1eb
DTSTAMP:20260420T154126Z
DTSTART;VALUE=DATE:20260525
SUMMARY:Whit Monday (Dominica)
END:VEVENT
END:VCALENDAR