BEGIN:VCALENDAR
VERSION:2.0
PRODID:-//time.now/holidays//NONSGML v1.0//EN
BEGIN:VEVENT
UID:32ca4be5-b64d-41b8-bbb2-3359bb21ce5d
DTSTAMP:20260424T100204Z
DTSTART;VALUE=DATE:20340102
SUMMARY:New Year's Day (observed) (Dominica)
END:VEVENT
END:VCALENDAR