BEGIN:VCALENDAR
VERSION:2.0
PRODID:-//time.now/holidays//NONSGML v1.0//EN
BEGIN:VEVENT
UID:20c54af2-5783-40c4-a70e-5f91b4a48e0c
DTSTAMP:20260423T030403Z
DTSTART;VALUE=DATE:20261104
SUMMARY:National Day of Community Service (Dominica)
END:VEVENT
END:VCALENDAR