BEGIN:VCALENDAR
VERSION:2.0
PRODID:-//time.now/holidays//NONSGML v1.0//EN
BEGIN:VEVENT
UID:3c027caa-9c1a-4334-aa2d-676e7d50bfba
DTSTAMP:20260420T201419Z
DTSTART;VALUE=DATE:20260217
SUMMARY:Carnival Tuesday (Dominica)
END:VEVENT
END:VCALENDAR