BEGIN:VCALENDAR
VERSION:2.0
PRODID:-//time.now/holidays//NONSGML v1.0//EN
BEGIN:VEVENT
UID:88916ae0-2136-4000-a7ab-730eff89c559
DTSTAMP:20260420T164419Z
DTSTART;VALUE=DATE:20261226
SUMMARY:Boxing Day (Dominica)
END:VEVENT
END:VCALENDAR