BEGIN:VCALENDAR
VERSION:2.0
PRODID:-//time.now/holidays//NONSGML v1.0//EN
BEGIN:VEVENT
UID:98982050-4745-419d-bf13-46bc8f842078
DTSTAMP:20260420T190605Z
DTSTART;VALUE=DATE:20260627
SUMMARY:Independence Day (Yibuti)
END:VEVENT
END:VCALENDAR