BEGIN:VCALENDAR
VERSION:2.0
PRODID:-//time.now/holidays//NONSGML v1.0//EN
BEGIN:VEVENT
UID:62654c14-442f-453b-992a-61776bdf00ab
DTSTAMP:20260423T030404Z
DTSTART;VALUE=DATE:20260628
SUMMARY:Independence Day Holiday (Yibuti)
END:VEVENT
END:VCALENDAR