BEGIN:VCALENDAR
VERSION:2.0
PRODID:-//time.now/holidays//NONSGML v1.0//EN
BEGIN:VEVENT
UID:04adb344-f906-41d3-a7ea-508aea417d81
DTSTAMP:20260421T005749Z
DTSTART;VALUE=DATE:20260321
SUMMARY:Eid al-Fitr Holiday (estimated) (Yibuti)
END:VEVENT
END:VCALENDAR