BEGIN:VCALENDAR
VERSION:2.0
PRODID:-//time.now/holidays//NONSGML v1.0//EN
BEGIN:VEVENT
UID:b8f12bcb-5af2-4099-8007-9591533c83e8
DTSTAMP:20260422T103942Z
DTSTART;VALUE=DATE:20230628
SUMMARY:Eid al-Adha (estimated); Independence Day Holiday (Yibuti)
END:VEVENT
END:VCALENDAR