BEGIN:VCALENDAR
VERSION:2.0
PRODID:-//time.now/holidays//NONSGML v1.0//EN
BEGIN:VEVENT
UID:03f4769b-5845-4892-bc6a-432c5117566e
DTSTAMP:20260420T215501Z
DTSTART;VALUE=DATE:20260526
SUMMARY:Arafat Day (estimated) (Yibuti)
END:VEVENT
END:VCALENDAR