BEGIN:VCALENDAR
VERSION:2.0
PRODID:-//time.now/holidays//NONSGML v1.0//EN
BEGIN:VEVENT
UID:5986572b-bfeb-44cd-886c-d80fb6f7859d
DTSTAMP:20260419T235800Z
DTSTART;VALUE=DATE:20260525
SUMMARY:Whit Monday (Dinamarca)
END:VEVENT
END:VCALENDAR