BEGIN:VCALENDAR
VERSION:2.0
PRODID:-//time.now/holidays//NONSGML v1.0//EN
BEGIN:VEVENT
UID:871d1ccd-7e4f-4245-8196-cad7439b6987
DTSTAMP:20260419T191235Z
DTSTART;VALUE=DATE:20260405
SUMMARY:Easter Sunday (Dinamarca)
END:VEVENT
END:VCALENDAR