BEGIN:VCALENDAR
VERSION:2.0
PRODID:-//time.now/holidays//NONSGML v1.0//EN
BEGIN:VEVENT
UID:0fc63d51-3d74-44b3-be68-6f85f62501c6
DTSTAMP:20260420T141359Z
DTSTART;VALUE=DATE:20260928
SUMMARY:Statehood Day (República Checa)
END:VEVENT
END:VCALENDAR