BEGIN:VCALENDAR
VERSION:2.0
PRODID:-//time.now/holidays//NONSGML v1.0//EN
BEGIN:VEVENT
UID:a1c87ea1-12d7-4384-8e10-b9bb9301d4d7
DTSTAMP:20260420T045703Z
DTSTART;VALUE=DATE:20260403
SUMMARY:Good Friday (República Checa)
END:VEVENT
END:VCALENDAR