BEGIN:VCALENDAR
VERSION:2.0
PRODID:-//time.now/holidays//NONSGML v1.0//EN
BEGIN:VEVENT
UID:8f5e9223-2333-4df3-ab8e-5f938fd40cac
DTSTAMP:20260420T032712Z
DTSTART;VALUE=DATE:20260406
SUMMARY:Easter Monday (República Checa)
END:VEVENT
END:VCALENDAR