BEGIN:VCALENDAR
VERSION:2.0
PRODID:-//time.now/holidays//NONSGML v1.0//EN
BEGIN:VEVENT
UID:3f07c078-d39a-4897-b3c5-d1867bda1bbf
DTSTAMP:20260420T022323Z
DTSTART;VALUE=DATE:20260601
SUMMARY:Whit Monday (Chipre)
END:VEVENT
END:VCALENDAR