BEGIN:VCALENDAR
VERSION:2.0
PRODID:-//time.now/holidays//NONSGML v1.0//EN
BEGIN:VEVENT
UID:64736032-e76c-44c6-b633-48028506ab07
DTSTAMP:20260420T101719Z
DTSTART;VALUE=DATE:20260101
SUMMARY:New Year's Day (Chipre)
END:VEVENT
END:VCALENDAR