BEGIN:VCALENDAR
VERSION:2.0
PRODID:-//time.now/holidays//NONSGML v1.0//EN
BEGIN:VEVENT
UID:3bb737b2-0592-4007-a6ab-f532cf82c91f
DTSTAMP:20260420T011354Z
DTSTART;VALUE=DATE:20260501
SUMMARY:Labor Day (Chipre)
END:VEVENT
END:VCALENDAR