BEGIN:VCALENDAR
VERSION:2.0
PRODID:-//time.now/holidays//NONSGML v1.0//EN
BEGIN:VEVENT
UID:cc13d61f-dd50-4613-906c-21b48dc0d933
DTSTAMP:20260420T013250Z
DTSTART;VALUE=DATE:20260410
SUMMARY:Good Friday (Chipre)
END:VEVENT
END:VCALENDAR