BEGIN:VCALENDAR
VERSION:2.0
PRODID:-//time.now/holidays//NONSGML v1.0//EN
BEGIN:VEVENT
UID:1b7fe807-7e65-4c93-a295-efebb561092f
DTSTAMP:20260419T222252Z
DTSTART;VALUE=DATE:20260412
SUMMARY:Easter Sunday (Chipre)
END:VEVENT
END:VCALENDAR