BEGIN:VCALENDAR
VERSION:2.0
PRODID:-//time.now/holidays//NONSGML v1.0//EN
BEGIN:VEVENT
UID:c617b462-5e77-4dde-bf40-8a3522d11fed
DTSTAMP:20260420T121955Z
DTSTART;VALUE=DATE:20261226
SUMMARY:Day After Christmas (Chipre)
END:VEVENT
END:VCALENDAR