BEGIN:VCALENDAR
VERSION:2.0
PRODID:-//time.now/holidays//NONSGML v1.0//EN
BEGIN:VEVENT
UID:70466ad3-02ea-47c2-9627-bf067132234c
DTSTAMP:20260420T182209Z
DTSTART;VALUE=DATE:20260401
SUMMARY:Cyprus National Day (Chipre)
END:VEVENT
END:VCALENDAR