BEGIN:VCALENDAR
VERSION:2.0
PRODID:-//time.now/holidays//NONSGML v1.0//EN
BEGIN:VEVENT
UID:a6f31b8d-a196-4971-8a16-17381ade1638
DTSTAMP:20260420T074114Z
DTSTART;VALUE=DATE:20261225
SUMMARY:Christmas Day (Chipre)
END:VEVENT
END:VCALENDAR