BEGIN:VCALENDAR
VERSION:2.0
PRODID:-//time.now/holidays//NONSGML v1.0//EN
BEGIN:VEVENT
UID:2b98b6ce-ecf1-47bd-a0f8-0b57f9427f7c
DTSTAMP:20260420T020956Z
DTSTART;VALUE=DATE:20260815
SUMMARY:Assumption Day (Chipre)
END:VEVENT
END:VCALENDAR