BEGIN:VCALENDAR
VERSION:2.0
PRODID:-//time.now/holidays//NONSGML v1.0//EN
BEGIN:VEVENT
UID:8313d3d0-46cc-4ff6-a559-a7c304b4833e
DTSTAMP:20260420T171125Z
DTSTART;VALUE=DATE:20261225
SUMMARY:Christmas Day (Curaçao)
END:VEVENT
END:VCALENDAR