BEGIN:VCALENDAR
VERSION:2.0
PRODID:-//time.now/holidays//NONSGML v1.0//EN
BEGIN:VEVENT
UID:bec6b410-adfb-4d91-b5fb-58e2f466dd51
DTSTAMP:20260420T160742Z
DTSTART;VALUE=DATE:20260530
SUMMARY:Statehood Day (Croacia)
END:VEVENT
END:VCALENDAR