BEGIN:VCALENDAR
VERSION:2.0
PRODID:-//time.now/holidays//NONSGML v1.0//EN
BEGIN:VEVENT
UID:7823f5e6-fbeb-4f00-8485-6a711994b736
DTSTAMP:20260420T114746Z
DTSTART;VALUE=DATE:20261226
SUMMARY:Saint Stephen's Day (Croacia)
END:VEVENT
END:VCALENDAR