BEGIN:VCALENDAR
VERSION:2.0
PRODID:-//time.now/holidays//NONSGML v1.0//EN
BEGIN:VEVENT
UID:96fb95a0-a39d-46bc-9a31-e8e944e3cbde
DTSTAMP:20260420T104226Z
DTSTART;VALUE=DATE:20261118
SUMMARY:Remembrance Day (Croacia)
END:VEVENT
END:VCALENDAR