BEGIN:VCALENDAR
VERSION:2.0
PRODID:-//time.now/holidays//NONSGML v1.0//EN
BEGIN:VEVENT
UID:61fa76a7-11c4-4dcb-a1e7-b59bc67a1340
DTSTAMP:20260420T205414Z
DTSTART;VALUE=DATE:20260622
SUMMARY:Anti-Fascist Struggle Day (Croacia)
END:VEVENT
END:VCALENDAR