BEGIN:VCALENDAR
VERSION:2.0
PRODID:-//time.now/holidays//NONSGML v1.0//EN
BEGIN:VEVENT
UID:af5a7eb1-4aa7-4d0a-94e4-15be9240547e
DTSTAMP:20260420T195942Z
DTSTART;VALUE=DATE:20260525
SUMMARY:Whit Monday (Costa de Marfil)
END:VEVENT
END:VCALENDAR