BEGIN:VCALENDAR
VERSION:2.0
PRODID:-//time.now/holidays//NONSGML v1.0//EN
BEGIN:VEVENT
UID:60a1df02-4b2e-4c5e-93e4-2f5fad3b316c
DTSTAMP:20260422T103909Z
DTSTART;VALUE=DATE:20220502
SUMMARY:Day after the Labor Day; Eid al-Fitr (Costa de Marfil)
END:VEVENT
END:VCALENDAR