BEGIN:VCALENDAR
VERSION:2.0
PRODID:-//time.now/holidays//NONSGML v1.0//EN
BEGIN:VEVENT
UID:e7017ec4-291c-43f9-8abe-82bf9468882c
DTSTAMP:20260422T091746Z
DTSTART;VALUE=DATE:20330103
SUMMARY:Day after the Eid al-Fitr (Costa de Marfil)
END:VEVENT
END:VCALENDAR